View In:
ArcGIS JavaScript
ArcGIS Online Map Viewer
ArcGIS Earth
ArcMap
View Footprint In:
ArcGIS Online Map Viewer
Service Description: CASA/CASA_PRECIPITATION
Name: CASA/CASA_PRECIPITATION
Description:
Single Fused Map Cache: false
Extent:
XMin: -97.9925
YMin: 31.7725
XMax: -96.2425
YMax: 33.6025
Spatial Reference: 4326
(4326)
Initial Extent:
XMin: -97.9925
YMin: 31.7725
XMax: -96.2425
YMax: 33.6025
Spatial Reference: 4326
(4326)
Full Extent:
XMin: -97.9925
YMin: 31.7725
XMax: -96.2425
YMax: 33.6025
Spatial Reference: 4326
(4326)
Pixel Size X: 0.005
Pixel Size Y: 0.004999999999999996
Band Count: 1
Pixel Type: F32
RasterFunction Infos: {"rasterFunctionInfos": [
{
"name": "CASA_ClassifiedColormapOriginal",
"description": "Creates single band image showing max rainfall value with original CASA symbology",
"help": ""
},
{
"name": "CASA_ClassifiedColormap",
"description": "Creates single band image showing max rainfall value",
"help": ""
},
{
"name": "CASA_Rainfall_in_Inches",
"description": "Creates single band image showing precipitation ammount in inches.",
"help": ""
},
{
"name": "None",
"description": "Make a Raster or Raster Dataset into a Function Raster Dataset.",
"help": ""
}
]}
Mensuration Capabilities: Basic
Has Histograms: true
Has Colormap: false
Has Multi Dimensions : false
Rendering Rule:
Min Scale: 0
Max Scale: 0
Copyright Text:
Service Data Type: esriImageServiceDataTypeGeneric
Min Values: 0.16395427286624908
Max Values: 83.78063343465328
Mean Values: 8.564193892947824
Standard Deviation Values: 8.682337586898251
Object ID Field: OBJECTID
Fields:
-
OBJECTID
(
type: esriFieldTypeOID, alias: OBJECTID, editable: false, nullable: false
)
-
Name
(
type: esriFieldTypeString, alias: Name, editable: true, nullable: true, length: 200
)
-
MinPS
(
type: esriFieldTypeDouble, alias: MinPS, editable: true, nullable: true
)
-
MaxPS
(
type: esriFieldTypeDouble, alias: MaxPS, editable: true, nullable: true
)
-
LowPS
(
type: esriFieldTypeDouble, alias: LowPS, editable: true, nullable: true
)
-
HighPS
(
type: esriFieldTypeDouble, alias: HighPS, editable: true, nullable: true
)
-
Category
(
type: esriFieldTypeInteger, alias: Category, editable: false, nullable: true
, Coded Values:
[0: Unknown]
, [1: Primary]
, [2: Overview]
, ...5 more...
)
-
Tag
(
type: esriFieldTypeString, alias: Tag, editable: true, nullable: true, length: 100
)
-
GroupName
(
type: esriFieldTypeString, alias: GroupName, editable: true, nullable: true, length: 100
)
-
ProductName
(
type: esriFieldTypeString, alias: ProductName, editable: true, nullable: true, length: 100
)
-
CenterX
(
type: esriFieldTypeDouble, alias: CenterX, editable: true, nullable: true
)
-
CenterY
(
type: esriFieldTypeDouble, alias: CenterY, editable: true, nullable: true
)
-
ZOrder
(
type: esriFieldTypeInteger, alias: ZOrder, editable: true, nullable: true
)
-
Timestamp
(
type: esriFieldTypeString, alias: Timestamp, editable: true, nullable: true, length: 50
)
-
StartTime
(
type: esriFieldTypeDate, alias: StartTime, editable: true, nullable: true, length: 8
)
-
EndTime
(
type: esriFieldTypeDate, alias: EndTime, editable: true, nullable: true, length: 8
)
-
Shape
(
type: esriFieldTypeGeometry, alias: Shape, editable: true, nullable: true
)
-
Shape.STArea()
(
type: esriFieldTypeDouble, alias: Shape.STArea(), editable: false, nullable: false
)
-
Shape.STLength()
(
type: esriFieldTypeDouble, alias: Shape.STLength(), editable: false, nullable: false
)
Default Mosaic Method: Northwest
Allowed Mosaic Methods: NorthWest,Center,LockRaster,ByAttribute,Nadir,Viewpoint,Seamline,None
SortField:
SortValue: null
Mosaic Operator: First
Default Compression Quality: 75
Default Resampling Method: Bilinear
Max Record Count: 1000
Max Image Height: 15000
Max Image Width: 15000
Max Download Image Count: 20
Max Mosaic Image Count: 50
Allow Raster Function: true
Allow Copy: true
Allow Analysis: true
Allow Compute TiePoints: false
Supports Statistics: true
Supports Advanced Queries: true
Use StandardizedQueries: true
Raster Type Infos:
Name: Raster Dataset
Description: Supports all ArcGIS Raster Datasets
Help:
Has Raster Attribute Table: false
Edit Fields Info: null
Ownership Based AccessControl For Rasters: null
Child Resources:
Info
Histograms
Statistics
Key Properties
Legend
Raster Function Infos
Supported Operations:
Export Image
Query
Identify
Download Rasters
Add Rasters
Update Raster
Delete Rasters
Measure
Compute Histograms
Compute Statistics Histograms
Get Samples
Compute Class Statistics
Query Boundary
Compute Pixel Location
Compute Angles
Validate
Project